BEGIN:VCALENDAR
VERSION:2.0
PRODID:-//172.30.10.209//NONSGML kigkonsult.se iCalcreator 2.20//
CALSCALE:GREGORIAN
METHOD:PUBLISH
X-WR-TIMEZONE:America/Los_Angeles
BEGIN:VEVENT
UID:event1106@Tungsten Education
DTSTAMP:20260420T175604Z
CATEGORIES:KTA Learning Cloud
DESCRIPTION:Knowledge Sharing Session - KTA (Session 1) | 10am CEST\nCatego
 ry: KTA Learning Cloud\nLink: https://learn.tungstenautomation.com/index.p
 hp?option=com_jem&view=event&id=1106:kss-kta-2023-10-05-session-1\n
DTSTART;TZID=America/Los_Angeles:20231005T000000
DTEND;TZID=America/Los_Angeles:20231005T000000
LOCATION:Webinars
SUMMARY:Knowledge Sharing Session - KTA (Session 1) | 10am CEST
URL:https://learn.tungstenautomation.com/index.php?option=com_jem&view=even
 t&id=1106:kss-kta-2023-10-05-session-1
END:VEVENT
END:VCALENDAR