BEGIN:VCALENDAR
VERSION:2.0
PRODID:-//172.30.10.209//NONSGML kigkonsult.se iCalcreator 2.20//
CALSCALE:GREGORIAN
METHOD:PUBLISH
X-WR-TIMEZONE:America/Los_Angeles
BEGIN:VEVENT
UID:event1087@Tungsten Education
DTSTAMP:20260425T142756Z
CATEGORIES:RPA Learning Cloud
DESCRIPTION:Knowledge Sharing Session - RPA (Session 2) | 9am PDT\nCategory
 : RPA Learning Cloud\nLink: https://learn.tungstenautomation.com/index.php
 ?option=com_jem&view=event&id=1087:kss-rpa-2023-09-05-session-2\n
DTSTART;TZID=America/Los_Angeles:20230905T000000
DTEND;TZID=America/Los_Angeles:20230905T000000
LOCATION:Webinars
SUMMARY:Knowledge Sharing Session - RPA (Session 2) | 9am PDT
URL:https://learn.tungstenautomation.com/index.php?option=com_jem&view=even
 t&id=1087:kss-rpa-2023-09-05-session-2
END:VEVENT
END:VCALENDAR